BEGIN:VCALENDAR
VERSION:2.0
PRODID:-//hacksw/handcal//NONSGML v1.0//EN
BEGIN:VEVENT
DTSTAMP:20260809T003000Z
DTSTART:20260809T003000Z
DTEND:20260809T033000Z

SUMMARY:New Orleans SERA Invitational Rodeo
DESCRIPTION:New Orleans SERA Invitational Rodeo is coming to New Orleans on August 8.
END:VEVENT
END:VCALENDAR