BEGIN:VCALENDAR
VERSION:2.0
PRODID:-//hacksw/handcal//NONSGML v1.0//EN
BEGIN:VEVENT
DTSTAMP:20261014T233000Z
DTSTART:20261014T233000Z
DTEND:20261015T023000Z

SUMMARY:$uicideboy$
DESCRIPTION:$uicideboy$ brings their Grey Day Tour 2026 to New Orleans on October 14 with special guests Destroy Lonely, $lim Gucci, Black Kray, DRAIN, and Shakewell.
END:VEVENT
END:VCALENDAR